BEGIN:VCALENDAR
VERSION:2.0
PRODID:icalendar-ruby
CALSCALE:GREGORIAN
METHOD:PUBLISH
BEGIN:VEVENT
DTSTAMP:20260420T051236Z
UID:43-1632963@faithwalking.net
DTSTART:20260628T223000Z
DTEND:20260703T003000Z
CLASS:PUBLIC
CREATED:20260417T094126
DESCRIPTION:
LAST-MODIFIED:20260417T094126
LOCATION:Faith Baptist Fellowship
SUMMARY:VACATION BIBLE SCHOOL
URL;VALUE=URI:https://www.faithwalking.net/events/vacation-bible-school/202
 6-06-28
ATTACH;FILENAME=Your-paragraph-text-2.png;FMTTYPE=image/png:https://dq5pwpg
 1q8ru0.cloudfront.net/2026/04/17/13/41/26/b09c0b4a-d8b3-4e74-898e-f5969475
 93af/Your-paragraph-text-2.png
END:VEVENT
END:VCALENDAR
