BEGIN:VCALENDAR
VERSION:2.0
PRODID:icalendar-ruby
CALSCALE:GREGORIAN
METHOD:PUBLISH
BEGIN:VEVENT
DTSTAMP:20260422T023624Z
UID:5-1650075@faithwalking.net
DTSTART:20261011T150000Z
DTEND:20261011T160000Z
CLASS:PUBLIC
CREATED:20260421T213510
DESCRIPTION:Sunday Worship
LAST-MODIFIED:20260421T213510
LOCATION:
SUMMARY:Sunday Worship
URL;VALUE=URI:https://www.faithwalking.net/events/sunday-worship/2026-10-11
ATTACH;FILENAME=week-of-January-18-2026-1.jpg;FMTTYPE=image/jpeg:https://dq
 5pwpg1q8ru0.cloudfront.net/2026/01/16/23/21/06/48bb2438-db67-4cb6-9981-f39
 4f9113754/week-of-January-18-2026-1.jpg
END:VEVENT
END:VCALENDAR
