BEGIN:VCALENDAR
VERSION:2.0
PRODID:icalendar-ruby
CALSCALE:GREGORIAN
METHOD:PUBLISH
BEGIN:VEVENT
DTSTAMP:20260421T204116Z
UID:5-1648874@faithwalking.net
DTSTART:20260920T150000Z
DTEND:20260920T160000Z
CLASS:PUBLIC
CREATED:20260421T161809
DESCRIPTION:Sunday Worship
LAST-MODIFIED:20260421T161809
LOCATION:
SUMMARY:Sunday Worship
URL;VALUE=URI:https://www.faithwalking.net/events/sunday-worship/2026-09-20
ATTACH;FILENAME=week-of-January-18-2026-1.jpg;FMTTYPE=image/jpeg:https://dq
 5pwpg1q8ru0.cloudfront.net/2026/01/16/23/21/06/48bb2438-db67-4cb6-9981-f39
 4f9113754/week-of-January-18-2026-1.jpg
END:VEVENT
END:VCALENDAR
