BEGIN:VCALENDAR
VERSION:2.0
PRODID:icalendar-ruby
CALSCALE:GREGORIAN
METHOD:PUBLISH
BEGIN:VEVENT
DTSTAMP:20260422T215921Z
UID:37-1652646@faithwalking.net
DTSTART:20260909T221500Z
DTEND:20260909T230000Z
CLASS:PUBLIC
CREATED:20260422T172843
DESCRIPTION:Intercessory Prayer Meeting
LAST-MODIFIED:20260422T172843
LOCATION:
SUMMARY:Intercessory Prayer Meeting
URL;VALUE=URI:https://www.faithwalking.net/events/intercessory-prayer-meeti
 ng--35/2026-09-09
ATTACH;FILENAME=Beige-Brown-and-White-Minimalist-Modern-Elegant-Christian-P
 rayer-Meeting-Announcement-Facebook-Post.png;FMTTYPE=image/png:https://dq5
 pwpg1q8ru0.cloudfront.net/2026/01/17/01/30/22/c6e2bb3c-d4f3-46eb-ac95-c0a5
 a158819a/Beige-Brown-and-White-Minimalist-Modern-Elegant-Christian-Prayer-
 Meeting-Announcement-Facebook-Post.png
END:VEVENT
END:VCALENDAR
