BEGIN:VCALENDAR
VERSION:2.0
PRODID:icalendar-ruby
CALSCALE:GREGORIAN
METHOD:PUBLISH
BEGIN:VEVENT
DTSTAMP:20260425T015727Z
UID:38-1660618@faithwalking.net
DTSTART:20261007T230000Z
DTEND:20261008T000000Z
CLASS:PUBLIC
CREATED:20260424T195831
DESCRIPTION:
LAST-MODIFIED:20260424T195831
LOCATION:
SUMMARY:Bible Study
URL;VALUE=URI:https://www.faithwalking.net/events/bible-study--38/2026-10-0
 7
ATTACH;FILENAME=week-of-April-26-2026-2.jpg;FMTTYPE=image/jpeg:https://dq5p
 wpg1q8ru0.cloudfront.net/2026/04/24/19/39/05/c1a6e804-6ddb-4aff-a49b-5003a
 725c837/week-of-April-26-2026-2.jpg
END:VEVENT
END:VCALENDAR
