BEGIN:VCALENDAR
VERSION:2.0
PRODID:icalendar-ruby
CALSCALE:GREGORIAN
METHOD:PUBLISH
BEGIN:VEVENT
DTSTAMP:20260424T151244Z
UID:38-1658093@faithwalking.net
DTSTART:20260826T230000Z
DTEND:20260827T000000Z
CLASS:PUBLIC
CREATED:20260424T084431
DESCRIPTION:
LAST-MODIFIED:20260424T084431
LOCATION:
SUMMARY:Bible Study
URL;VALUE=URI:https://www.faithwalking.net/events/bible-study--38/2026-08-2
 6
ATTACH;FILENAME=week-of-April-19-2026-2.jpg;FMTTYPE=image/jpeg:https://dq5p
 wpg1q8ru0.cloudfront.net/2026/04/17/13/23/02/89509e61-ab88-4a0d-b38c-e61e6
 31d3a48/week-of-April-19-2026-2.jpg
END:VEVENT
END:VCALENDAR
